BEGIN:VCALENDAR
VERSION:2.0
PRODID:-//Sabre//Sabre VObject 4.5.1//EN
CALSCALE:GREGORIAN
BEGIN:VEVENT
UID:sabre-vobject-e407008d-ffc2-4744-b28c-5ea1fabf0db9
DTSTAMP:20260422T140511Z
SUMMARY:Denhams Antique Auction
DTSTART;TZID=Europe/London:20260520T100000
DTEND;TZID=Europe/London:20260520T173000
METHOD:PUBLISH
ORGANISER:online.services@denhams.com
URL;VALUE=URI:https://denhams.com/antique-auction
LOCATION:Dorking Road\, Warnham\, RH12 3RZ\, GB
END:VEVENT
END:VCALENDAR
